BEGIN:VCALENDAR
VERSION:2.0
PRODID:-//hacksw/handcal//NONSGML v1.0//EN
CALSCALE:GREGORIAN
BEGIN:VEVENT
UID:2
DTSTAMP:20260423T105228Z
DESCRIPTION:
DTSTART;VALUE=DATE;VALUE=DATE:20250116
LOCATION:
SUMMARY:Nominet Members Call with Paul Fletcher - 16 January 2025
URL;VALUE=URI:https://www.acorndomains.co.uk/events/nominet-members-call-with-paul-fletcher-16-january-2025.2/
END:VEVENT
BEGIN:VEVENT
UID:9
DTSTAMP:20260423T105228Z
DESCRIPTION:January 22\, 2025
DTSTART:20250122T180000Z
DTEND:20250122T200000Z
LOCATION:Engel Bar | The Mezzanine\, Royal Exchange\, City of London\, London EC3V 3LQ\, United Kingdom
SUMMARY:The Exit Meetup by Flippa - 22 jan 2025 - London\, UK
URL;VALUE=URI:https://www.acorndomains.co.uk/events/the-exit-meetup-by-flippa-22-jan-2025-london-uk.9/
END:VEVENT
BEGIN:VEVENT
UID:1
DTSTAMP:20260423T105228Z
DESCRIPTION:
DTSTART;VALUE=DATE;VALUE=DATE:20250203
LOCATION:Oxford Courtyard by Marriott Oxford City Centre\, 15 Paradise Street\, Oxford\, OX1 1LD
SUMMARY:Nominet DRS Conference - 3-4 February 2025
URL;VALUE=URI:https://www.acorndomains.co.uk/events/nominet-drs-conference-3-4-february-2025.1/
END:VEVENT
BEGIN:VEVENT
UID:3
DTSTAMP:20260423T105228Z
DESCRIPTION:
DTSTART;VALUE=DATE;VALUE=DATE:20250211
LOCATION:Gläserne Manufaktur\, Erlebnisfertigung\, Lennéstraße 1\, Dresden 01069 Dresden
SUMMARY:Domain Pulse 2025 - 11-12 February 2025
URL;VALUE=URI:https://www.acorndomains.co.uk/events/domain-pulse-2025-11-12-february-2025.3/
END:VEVENT
BEGIN:VEVENT
UID:5
DTSTAMP:20260423T105228Z
DESCRIPTION:
DTSTART;VALUE=DATE;VALUE=DATE:20250306
LOCATION:Hotel Mona Plaza Cara Uroša 62-64 Belgrade\, Serbia
SUMMARY:Protection of IP in Digital Environment - 6-7 March\, 2025 - Belgrade\, Serbia
URL;VALUE=URI:https://www.acorndomains.co.uk/events/protection-of-ip-in-digital-environment-6-7-march-2025-belgrade-serbia.5/
END:VEVENT
BEGIN:VEVENT
UID:10
DTSTAMP:20260423T105228Z
DESCRIPTION:12 - 13 March 2025  Excel London
DTSTART;VALUE=DATE;VALUE=DATE:20250312
LOCATION:Excel London\, London\, UK
SUMMARY:Data Centre World
URL;VALUE=URI:https://www.acorndomains.co.uk/events/data-centre-world.10/
END:VEVENT
BEGIN:VEVENT
UID:6
DTSTAMP:20260423T105228Z
DESCRIPTION:
DTSTART;VALUE=DATE;VALUE=DATE:20250317
LOCATION:Europa-Park-Straße\, Rust\, Germany
SUMMARY:CloudFest - March 17-20\, 2025 - Europa-Park\, Germany
URL;VALUE=URI:https://www.acorndomains.co.uk/events/cloudfest-march-17-20-2025-europa-park-germany.6/
END:VEVENT
BEGIN:VEVENT
UID:8
DTSTAMP:20260423T105228Z
DESCRIPTION:21 March 2025
DTSTART;VALUE=DATE;VALUE=DATE:20250321
LOCATION:31 Rue Jean Wenger - Valentin\, 67000 Strasbourg\, France
SUMMARY:NDDCamp Alsace - 21 March 2025 - Strasbourg\, France
URL;VALUE=URI:https://www.acorndomains.co.uk/events/nddcamp-alsace-21-march-2025-strasbourg-france.8/
END:VEVENT
BEGIN:VEVENT
UID:4
DTSTAMP:20260423T105228Z
DESCRIPTION:
DTSTART;VALUE=DATE;VALUE=DATE:20250426
LOCATION:
SUMMARY:Nordic Domain Days - 27-29 April\, 2025 - Stockholm\, Sweden
URL;VALUE=URI:https://www.acorndomains.co.uk/events/nordic-domain-days-27-29-april-2025-stockholm-sweden.4/
END:VEVENT
BEGIN:VEVENT
UID:7
DTSTAMP:20260423T105228Z
DESCRIPTION:
DTSTART;VALUE=DATE;VALUE=DATE:20250511
LOCATION:Strasbourg\, France
SUMMARY:EuroDIG 2025 - 12-14 May\, 2025 - Strasbourg\, France
URL;VALUE=URI:https://www.acorndomains.co.uk/events/eurodig-2025-12-14-may-2025-strasbourg-france.7/
END:VEVENT
BEGIN:VEVENT
UID:14
DTSTAMP:20260423T105228Z
DESCRIPTION:June 5\, 2025
DTSTART;VALUE=DATE;VALUE=DATE:20250604
LOCATION:APDC - Av. João XXI\, 78\, R/C Esq (acesso pelas escadas exteriores)\, 1000-304 Lisboa
SUMMARY:Portuguese Internet Governance Forum 2025 – June 5\, Lisbon
URL;VALUE=URI:https://www.acorndomains.co.uk/events/portuguese-internet-governance-forum-2025-%E2%80%93-june-5-lisbon.14/
END:VEVENT
BEGIN:VEVENT
UID:13
DTSTAMP:20260423T105228Z
DESCRIPTION:9-12 June
DTSTART;VALUE=DATE;VALUE=DATE:20250608
LOCATION:Prague Congress Center
SUMMARY:ICANN83 Policy Forum - 9-12 June\, Prague
URL;VALUE=URI:https://www.acorndomains.co.uk/events/icann83-policy-forum-9-12-june-prague.13/
END:VEVENT
BEGIN:VEVENT
UID:15
DTSTAMP:20260423T105228Z
DESCRIPTION:
DTSTART:20250620T170000Z
DTEND:20250620T200000Z
LOCATION:Hoheluftchaussee 2\, 20253 Hamburg\, Hamburg-Nord\, Germany
SUMMARY:Summer Stammtisch 2025 for Domain Investors – 20.06.2025\, Hamburg\, Germany
URL;VALUE=URI:https://www.acorndomains.co.uk/events/summer-stammtisch-2025-for-domain-investors-%E2%80%93-20-06-2025-hamburg-germany.15/
END:VEVENT
BEGIN:VEVENT
UID:12
DTSTAMP:20260423T105228Z
DESCRIPTION:26 June 2025
DTSTART;VALUE=DATE;VALUE=DATE:20250624
LOCATION:Hanauer Landstraße 188\, 60314 Frankfurt am Main\, Germany
SUMMARY:InterNetX Domain Summit 2025 - 25-26 June 2025\, Frankfurt\, Germany
URL;VALUE=URI:https://www.acorndomains.co.uk/events/internetx-domain-summit-2025-25-26-june-2025-frankfurt-germany.12/
END:VEVENT
BEGIN:VEVENT
UID:16
DTSTAMP:20260423T105228Z
DESCRIPTION:July 15\, 2025
DTSTART:20250715T170000Z
DTEND:20250715T210000Z
LOCATION:Ashmolean Museum\, Oxford
SUMMARY:Nominet Members’ Summer Social - July 15\, Ashmolean Museum\, Oxford
URL;VALUE=URI:https://www.acorndomains.co.uk/events/nominet-members%E2%80%99-summer-social-july-15-ashmolean-museum-oxford.16/
END:VEVENT
BEGIN:VEVENT
UID:11
DTSTAMP:20260423T105228Z
DESCRIPTION:September 1-3\, 2025
DTSTART;VALUE=DATE;VALUE=DATE:20250831
LOCATION:Business Design Centre\, London\, UK
SUMMARY:Domain Summit Europe - London 2025
URL;VALUE=URI:https://www.acorndomains.co.uk/events/domain-summit-europe-london-2025.11/
END:VEVENT
BEGIN:VEVENT
UID:17
DTSTAMP:20260423T105228Z
DESCRIPTION:17th September 2025
DTSTART:20250917T080000Z
DTEND:20250917T183000Z
LOCATION:Institute of Engineering and Technology (IET)\, 2 Savoy Place\, London WC2R 0BL
SUMMARY:Nominet Members’ Conference 2025 - 17th September 2025\, London
URL;VALUE=URI:https://www.acorndomains.co.uk/events/nominet-members%E2%80%99-conference-2025-17th-september-2025-london.17/
END:VEVENT
BEGIN:VEVENT
UID:18
DTSTAMP:20260423T105228Z
DESCRIPTION:Wednesday 22nd October 2025
DTSTART;VALUE=DATE;VALUE=DATE:20251021
LOCATION:Minerva House\, Edmund Halley Road\, Littlemore\, Oxford\, UK
SUMMARY:AGM Nominet Annual General Meeting - 22 October 2025
URL;VALUE=URI:https://www.acorndomains.co.uk/events/agm-nominet-annual-general-meeting-22-october-2025.18/
END:VEVENT
BEGIN:VEVENT
UID:23
DTSTAMP:20260423T105228Z
DESCRIPTION:25-30 October 2025
DTSTART;VALUE=DATE;VALUE=DATE:20251024
LOCATION:The Convention Centre Dublin\, North Wall Quay\, North Wall\, Dublin 1\, Ireland
SUMMARY:ICANN84 Annual General Meeting - 25-30 October\, Dublin\, Ireland
URL;VALUE=URI:https://www.acorndomains.co.uk/events/icann84-annual-general-meeting-25-30-october-dublin-ireland.23/
END:VEVENT
BEGIN:VEVENT
UID:20
DTSTAMP:20260423T105228Z
DESCRIPTION:Register to Join Paul Fletcher Nominet's CEO at our Member's call on 13th November
DTSTART:20251113T140000Z
DTEND:20251113T150000Z
LOCATION:
SUMMARY:Members’ Call with Paul Fletcher – November 13\, 2025
URL;VALUE=URI:https://www.acorndomains.co.uk/events/members%E2%80%99-call-with-paul-fletcher-%E2%80%93-november-13-2025.20/
END:VEVENT
BEGIN:VEVENT
UID:19
DTSTAMP:20260423T105228Z
DESCRIPTION:November 17–18\, 2025
DTSTART;VALUE=DATE;VALUE=DATE:20251116
LOCATION:88 Wing Lok Street\, Sheung Wan\, Hong Kong
SUMMARY:Domain Summit Asia 2025
URL;VALUE=URI:https://www.acorndomains.co.uk/events/domain-summit-asia-2025.19/
END:VEVENT
BEGIN:VEVENT
UID:21
DTSTAMP:20260423T105228Z
DESCRIPTION:4–5 February 2026
DTSTART;VALUE=DATE;VALUE=DATE:20260203
LOCATION:SQUARE at the University of St.Gallen (Building 11)\, Guisanstrasse 20\, 9010 St. Gallen\, Switzerland
SUMMARY:Domain pulse 2026 - 4–5 February 2026\, Switzerland
URL;VALUE=URI:https://www.acorndomains.co.uk/events/domain-pulse-2026-4%E2%80%935-february-2026-switzerland.21/
END:VEVENT
BEGIN:VEVENT
UID:24
DTSTAMP:20260423T105228Z
DESCRIPTION:23-24 February\, 2026
DTSTART;VALUE=DATE;VALUE=DATE:20260223
LOCATION:Villa Rosa Kempinski\, Chiromo Road\, Nairobi\, Kenya
SUMMARY:Domain Summit Africa 2026 - 23/24 Feb 2026 - Villa Rosa Kempinski\, Nairobi\, Kenya
URL;VALUE=URI:https://www.acorndomains.co.uk/events/domain-summit-africa-2026-23-24-feb-2026-villa-rosa-kempinski-nairobi-kenya.24/
END:VEVENT
BEGIN:VEVENT
UID:25
DTSTAMP:20260423T105228Z
DESCRIPTION:March 23–26\, 2026
DTSTART;VALUE=DATE;VALUE=DATE:20260322
LOCATION:Europa-Park\, Europa-Park-Straße\, Rust\, Germany
SUMMARY:CloudFest 2026 - March 23–26\, 2026\, Europa-Park\, Germany
URL;VALUE=URI:https://www.acorndomains.co.uk/events/cloudfest-2026-march-23%E2%80%9326-2026-europa-park-germany.25/
END:VEVENT
BEGIN:VEVENT
UID:30
DTSTAMP:20260423T105228Z
DESCRIPTION:27 March 2026
DTSTART;VALUE=DATE;VALUE=DATE:20260326
LOCATION:31 Rue Jean Wenger - Valentin\, 67000 Strasbourg\, France
SUMMARY:NDDCamp Strasbourg (Alsace) — 27 March 2026
URL;VALUE=URI:https://www.acorndomains.co.uk/events/nddcamp-strasbourg-alsace-%E2%80%94-27-march-2026.30/
END:VEVENT
BEGIN:VEVENT
UID:34
DTSTAMP:20260423T105228Z
DESCRIPTION:April 27\, 2026
DTSTART;VALUE=DATE;VALUE=DATE:20260426
LOCATION:Mona Plaza\, Cara Uroša 62-64\, Belgrade\, Serbia
SUMMARY:Protection of IP in Digital Environment - April 27\, 2026 - Belgrade\, Serbia
URL;VALUE=URI:https://www.acorndomains.co.uk/events/protection-of-ip-in-digital-environment-april-27-2026-belgrade-serbia.34/
END:VEVENT
BEGIN:VEVENT
UID:33
DTSTAMP:20260423T105228Z
DESCRIPTION:27-29 April 2026
DTSTART;VALUE=DATE;VALUE=DATE:20260426
LOCATION:Kimpton Clocktower Hotel\, Oxford Street\, Manchester\, UK
SUMMARY:Contracted Parties Summit - 27-29 April 2026 - Manchester\, UK
URL;VALUE=URI:https://www.acorndomains.co.uk/events/contracted-parties-summit-27-29-april-2026-manchester-uk.33/
END:VEVENT
BEGIN:VEVENT
UID:38
DTSTAMP:20260423T105228Z
DESCRIPTION:May 19-20\, 2026
DTSTART;VALUE=DATE;VALUE=DATE:20260519
LOCATION:Squarespace\, Clarkson Street\, New York\, NY\, USA
SUMMARY:ICA NYC 2026 - May 19-20\, 2026
URL;VALUE=URI:https://www.acorndomains.co.uk/events/ica-nyc-2026-may-19-20-2026.38/
END:VEVENT
BEGIN:VEVENT
UID:22
DTSTAMP:20260423T105228Z
DESCRIPTION:May 24-26\, 2026
DTSTART;VALUE=DATE;VALUE=DATE:20260523
LOCATION:Clarion Hotel Stockholm\, Ringvägen\, Stockholm\, Sweden
SUMMARY:Nordic Domain Days 2026 - May 24-26\, 2026 - Stockholm\, Sweden
URL;VALUE=URI:https://www.acorndomains.co.uk/events/nordic-domain-days-2026-may-24-26-2026-stockholm-sweden.22/
END:VEVENT
BEGIN:VEVENT
UID:32
DTSTAMP:20260423T105228Z
DESCRIPTION:26–27 May 2026
DTSTART;VALUE=DATE;VALUE=DATE:20260525
LOCATION:European Commission Charlemagne building (CHAR)\, Rue de la Loi\, Brussels\, Belgium
SUMMARY:EuroDIG 2026 (European Dialogue on Internet Governance) - 26–27 May 2026 - Brussels\, Belgium
URL;VALUE=URI:https://www.acorndomains.co.uk/events/eurodig-2026-european-dialogue-on-internet-governance-26%E2%80%9327-may-2026-brussels-belgium.32/
END:VEVENT
BEGIN:VEVENT
UID:36
DTSTAMP:20260423T105228Z
DESCRIPTION:August 17-18\, 2026
DTSTART;VALUE=DATE;VALUE=DATE:20260815
LOCATION:Rathausstraße 2\, 87435 Kempten (Allgäu)\, Germany
SUMMARY:Domain Summit Europe 2026 - August 17-18\, 2026 - Kempten\, Germany
URL;VALUE=URI:https://www.acorndomains.co.uk/events/domain-summit-europe-2026-august-17-18-2026-kempten-germany.36/
END:VEVENT
BEGIN:VEVENT
UID:28
DTSTAMP:20260423T105228Z
DESCRIPTION:11 September\, 2026
DTSTART;VALUE=DATE;VALUE=DATE:20260910
LOCATION:Paris\, France
SUMMARY:NDD Camp Paris\, France - 11 September\, 2026
URL;VALUE=URI:https://www.acorndomains.co.uk/events/ndd-camp-paris-france-11-september-2026.28/
END:VEVENT
BEGIN:VEVENT
UID:31
DTSTAMP:20260423T105228Z
DESCRIPTION:14–15 October 2026
DTSTART;VALUE=DATE;VALUE=DATE:20261013
LOCATION:Marriott Resort Palm Jumeirah\, Dubai\, Palm West Beach Palm - Jumeirah Road - Dubai - United Arab Emirates
SUMMARY:Domain Days Dubai 2026 - 14–15 October 2026 - Dubai\, UAE
URL;VALUE=URI:https://www.acorndomains.co.uk/events/domain-days-dubai-2026-14%E2%80%9315-october-2026-dubai-uae.31/
END:VEVENT
BEGIN:VEVENT
UID:27
DTSTAMP:20260423T105228Z
DESCRIPTION:November 11–12\, 2026
DTSTART;VALUE=DATE;VALUE=DATE:20261111
LOCATION:Ice Palace Studios\, North Miami Avenue\, Miami\, Florida\, USA
SUMMARY:NamesCon and CloudFest USA\, Miami\, USA
URL;VALUE=URI:https://www.acorndomains.co.uk/events/namescon-and-cloudfest-usa-miami-usa.27/
END:VEVENT
BEGIN:VEVENT
UID:29
DTSTAMP:20260423T105228Z
DESCRIPTION:20 November 2026
DTSTART;VALUE=DATE;VALUE=DATE:20261119
LOCATION:Rennes\, France
SUMMARY:NDDCamp Rennes — 20 November 2026 (Rennes\, France)
URL;VALUE=URI:https://www.acorndomains.co.uk/events/nddcamp-rennes-%E2%80%94-20-november-2026-rennes-france.29/
END:VEVENT
BEGIN:VEVENT
UID:35
DTSTAMP:20260423T105228Z
DESCRIPTION:January 25-27\, 2027
DTSTART;VALUE=DATE;VALUE=DATE:20270125
LOCATION:MGM Grand\, South Las Vegas Boulevard\, Las Vegas\, NV\, USA
SUMMARY:ICA Member Meeting | January 25-27\, 2027 | Park MGM\, Las Vegas
URL;VALUE=URI:https://www.acorndomains.co.uk/events/ica-member-meeting-january-25-27-2027-park-mgm-las-vegas.35/
END:VEVENT
BEGIN:VEVENT
UID:37
DTSTAMP:20260423T105228Z
DESCRIPTION:March 15–18\, 2027
DTSTART;VALUE=DATE;VALUE=DATE:20270314
LOCATION:Europa-Park\, Europa-Park-Straße\, Rust\, Germany
SUMMARY:CloudFest 2027 | March 15–18 | Europa-Park in Rust\, Germany
URL;VALUE=URI:https://www.acorndomains.co.uk/events/cloudfest-2027-march-15%E2%80%9318-europa-park-in-rust-germany.37/
END:VEVENT
END:VCALENDAR