BEGIN:VCALENDAR
VERSION:2.0
PRODID:-//hacksw/handcal//NONSGML v1.0//EN
CALSCALE:GREGORIAN
BEGIN:VEVENT
UID:38
DTSTAMP:20260419T121822Z
DESCRIPTION:May 19-20\, 2026
DTSTART;VALUE=DATE;VALUE=DATE:20260519
LOCATION:Squarespace\, Clarkson Street\, New York\, NY\, USA
SUMMARY:ICA NYC 2026 - May 19-20\, 2026
URL;VALUE=URI:https://www.acorndomains.co.uk/events/ica-nyc-2026-may-19-20-2026.38/
END:VEVENT
END:VCALENDAR